BEGIN:VCALENDAR
VERSION:2.0
PRODID:icalendar-ruby
CALSCALE:GREGORIAN
METHOD:PUBLISH
BEGIN:VEVENT
DTSTAMP:20260424T185917Z
UID:554-4969086@stmarysmetchosin.ca
DTSTART:20260517T170000Z
DTEND:20260517T180000Z
CLASS:PUBLIC
CREATED:20260409T111306
DESCRIPTION:Worship Leader: Rev. Philip Wadham\nCome as you are—\nwith yo
 ur questions\, your hopes\, your joys\, and your burdens—\nas we open ou
 r hearts in worship\, share in the Word\,\nand draw near to the risen and 
 ascended Christ together.\nAll are welcome.\nAll belong.\nReadings:\n\nAct
 s 1:1-11\nPsalm 47\nEphesians 1:15-23\nJohn 24:44-53\n\nFull Readings Here
 \nOur Sunday Morning Service is in-person. Come and experience God’s ble
 ssings in the community. Families with children of all ages are welcome. T
 here is a corner with comfy sofas perfect for young families. Our Sunday s
 chool program welcomes children of all ages and abilities. Bible stories\,
  games and crafts keep everybody busy. We’ve got something that works f
 or everyone.
LAST-MODIFIED:20260409T111306
LOCATION:St. Mary of the Incarnation 4125 Metchosin Road
SUMMARY:Eucharist
URL;VALUE=URI:https://www.stmarysmetchosin.ca/events/eucharist--554/2026-05
 -17
ATTACH;FILENAME=2026-05-17 Ascension.png;FMTTYPE=image/png:https://dq5pwpg1
 q8ru0.cloudfront.net/2026/04/09/18/03/50/9a6e62cc-d135-4a17-8fb6-ab6878954
 194/2026-05-17%20Ascension.png
END:VEVENT
END:VCALENDAR
