BEGIN:VCALENDAR
VERSION:2.0
PRODID:icalendar-ruby
CALSCALE:GREGORIAN
METHOD:PUBLISH
BEGIN:VEVENT
DTSTAMP:20260424T190046Z
UID:555-4969090@stmarysmetchosin.ca
DTSTART:20260524T170000Z
DTEND:20260524T180000Z
CLASS:PUBLIC
CREATED:20260409T112037
DESCRIPTION:Worship Leader: Rev. Lynn Mills\nCome as you are—\nwith your 
 questions\, your hopes\, your joys\, and your burdens—\nas we open our h
 earts in worship\, share in the Word\,\nand draw near to the risen and asc
 ended Christ together.\nAll are welcome.\nAll belong.\nReadings:\n\nActs 2
 :1-21\nPsalm 104:25-35\, 37\n1 Corinthians 12:3b-13\nJohn 20:19-23\n\nFull
  Readings Here\nOur Sunday Morning Service is in-person. Come and experien
 ce God’s blessings in the community. Families with children of all ages 
 are welcome. There is a corner with comfy sofas perfect for young families
 . Our Sunday school program welcomes children of all ages and abilities. B
 ible stories\, games and crafts keep everybody busy. We’ve got somethin
 g that works for everyone.
LAST-MODIFIED:20260409T112037
LOCATION:St. Mary of the Incarnation 4125 Metchosin Road
SUMMARY:Eucharist
URL;VALUE=URI:https://www.stmarysmetchosin.ca/events/eucharist--555/2026-05
 -24
ATTACH;FILENAME=2026-05-24 Pentecost.png;FMTTYPE=image/png:https://dq5pwpg1
 q8ru0.cloudfront.net/2026/04/09/18/15/22/463c5c8c-ca47-4fa3-a0a9-465f59001
 6e6/2026-05-24%20Pentecost.png
END:VEVENT
END:VCALENDAR
