BEGIN:VCALENDAR
VERSION:2.0
PRODID:icalendar-ruby
CALSCALE:GREGORIAN
METHOD:PUBLISH
BEGIN:VEVENT
DTSTAMP:20260424T190705Z
UID:556-4971431@stmarysmetchosin.ca
DTSTART:20260531T170000Z
DTEND:20260531T180000Z
CLASS:PUBLIC
CREATED:20260409T125945
DESCRIPTION:Worship Leader: Rev. Philip Wadham\nCome as you are—\nwith yo
 ur questions\, your hopes\, your joys\, and your burdens—\nas we open ou
 r hearts in worship\, share in the Word\,\nand draw near to the risen and 
 ascended Christ together.\nAll are welcome.\nAll belong.\nReadings:\n\nGen
 esis 1:1-2:4a\nPsalm 8\n2 Corinthians 13:11-13\nMaththew 28:16-20\n\nFull 
 Readings Here\nOur Sunday Morning Service is in-person. Come and experienc
 e God’s blessings in the community. Families with children of all ages a
 re welcome. There is a corner with comfy sofas perfect for young families.
  Our Sunday school program welcomes children of all ages and abilities. Bi
 ble stories\, games and crafts keep everybody busy. We’ve got something
  that works for everyone.
LAST-MODIFIED:20260409T125945
LOCATION:St. Mary of the Incarnation 4125 Metchosin Road
SUMMARY:Eucharist
URL;VALUE=URI:https://www.stmarysmetchosin.ca/events/eucharist--556/2026-05
 -31
ATTACH;FILENAME=2026-05-31 Trinity Sunday.png;FMTTYPE=image/png:https://dq5
 pwpg1q8ru0.cloudfront.net/2026/04/09/18/24/37/8431c3de-ac34-4e8a-a0c2-9dd6
 6a0e8f47/2026-05-31%20Trinity%20Sunday.png
END:VEVENT
END:VCALENDAR
