BEGIN:VCALENDAR
VERSION:2.0
PRODID:icalendar-ruby
CALSCALE:GREGORIAN
METHOD:PUBLISH
BEGIN:VEVENT
DTSTAMP:20260424T191031Z
UID:557-5025154@stmarysmetchosin.ca
DTSTART:20260510T170000Z
DTEND:20260510T180000Z
CLASS:PUBLIC
CREATED:20260413T115226
DESCRIPTION:Worship Leader: Rev. Wally Eamer\nCome as you are—\nwith your
  questions\, your hopes\, your joys\, and your burdens—\nas we open our 
 hearts in worship\, share in the Word\,\nand draw near to the risen and as
 cended Christ together.\nAll are welcome.\nAll belong.\nReadings:\n\nActs 
 17:22-31\nPsalm 66:7-18\n1 Peter 3:13-22\nJohn 14:15-21\n\nFull Readings H
 ere\nOur Sunday Morning Service is in-person. Come and experience God’s 
 blessings in the community. Families with children of all ages are welcome
 . There is a corner with comfy sofas perfect for young families. Our Sunda
 y school program welcomes children of all ages and abilities. Bible storie
 s\, games and crafts keep everybody busy. We’ve got something that work
 s for everyone.
LAST-MODIFIED:20260413T115226
LOCATION:St. Mary of the Incarnation 4125 Metchosin Road
SUMMARY:Service of the Word
URL;VALUE=URI:https://www.stmarysmetchosin.ca/events/service-of-the-word--5
 57/2026-05-10
ATTACH;FILENAME=2026-05-10 If you love me.png;FMTTYPE=image/png:https://dq5
 pwpg1q8ru0.cloudfront.net/2026/04/09/18/58/50/35cf3dbe-1bdf-417e-b527-94ee
 821d47be/2026-05-10%20If%20you%20love%20me.png
END:VEVENT
END:VCALENDAR
