BEGIN:VCALENDAR
VERSION:2.0
PRODID:icalendar-ruby
CALSCALE:GREGORIAN
METHOD:PUBLISH
BEGIN:VEVENT
DTSTAMP:20260420T134227Z
UID:344-5097750@stmarysmetchosin.ca
DTSTART;VALUE=DATE:20260503
DTEND;VALUE=DATE:20260924
CLASS:PUBLIC
CREATED:20260418T152609
DESCRIPTION:To the clergy and staff of the diocese of islands and inlets\;\
 nWe've outlined important dates and events coming up in the next program y
 ear. Please take a moment to view The Year Ahead schedule: CLICK HERE.\nOv
 er the next weeks:\n \nMay 3               Diocesan-wide Confirma
 tions\, Christ Church Cathedral\nMay 6-8            Provincial 
 Congregational Development School\, Terrace         \nMay 28    
           Diocesan Council\, in-person       \nJun 4        
           Parish Administrators' Day\nJun 21            
    National Indigenous People’s Day\nAug 15              
 Deadline for notices of motions for Diocesan Synod 2026 and nominations to
 \n                          Diocesan Council\, Provincial Syn
 od and General Synod\nSave the Dates for Fall 2026 \nSept 24         
      Diocesan Council\nNov 20-21          Diocesan Synod
LAST-MODIFIED:20260418T152609
LOCATION:
SUMMARY:The Year Ahead in the Diocese
URL;VALUE=URI:https://www.stmarysmetchosin.ca/events/the-year-ahead-in-the-
 diocese/2026-05-03
ATTACH;FILENAME=The Year Ahead.png;FMTTYPE=image/png:https://dq5pwpg1q8ru0.
 cloudfront.net/2024/07/20/22/51/04/6f492b2c-d880-4b7a-b314-7b442118b255/Th
 e%20Year%20Ahead.png
END:VEVENT
END:VCALENDAR
